BEGIN:VCALENDAR
VERSION:2.0
PRODID:-//Sportsmans Alliance of Maine - ECPv6.15.18//NONSGML v1.0//EN
CALSCALE:GREGORIAN
METHOD:PUBLISH
X-WR-CALNAME:Sportsmans Alliance of Maine
X-ORIGINAL-URL:https://samofmaine.org
X-WR-CALDESC:Events for Sportsmans Alliance of Maine
REFRESH-INTERVAL;VALUE=DURATION:PT1H
X-Robots-Tag:noindex
X-PUBLISHED-TTL:PT1H
BEGIN:VTIMEZONE
TZID:America/New_York
BEGIN:DAYLIGHT
TZOFFSETFROM:-0500
TZOFFSETTO:-0400
TZNAME:EDT
DTSTART:20210314T070000
END:DAYLIGHT
BEGIN:STANDARD
TZOFFSETFROM:-0400
TZOFFSETTO:-0500
TZNAME:EST
DTSTART:20211107T060000
END:STANDARD
BEGIN:DAYLIGHT
TZOFFSETFROM:-0500
TZOFFSETTO:-0400
TZNAME:EDT
DTSTART:20220313T070000
END:DAYLIGHT
BEGIN:STANDARD
TZOFFSETFROM:-0400
TZOFFSETTO:-0500
TZNAME:EST
DTSTART:20221106T060000
END:STANDARD
BEGIN:DAYLIGHT
TZOFFSETFROM:-0500
TZOFFSETTO:-0400
TZNAME:EDT
DTSTART:20230312T070000
END:DAYLIGHT
BEGIN:STANDARD
TZOFFSETFROM:-0400
TZOFFSETTO:-0500
TZNAME:EST
DTSTART:20231105T060000
END:STANDARD
BEGIN:DAYLIGHT
TZOFFSETFROM:-0500
TZOFFSETTO:-0400
TZNAME:EDT
DTSTART:20240310T070000
END:DAYLIGHT
BEGIN:STANDARD
TZOFFSETFROM:-0400
TZOFFSETTO:-0500
TZNAME:EST
DTSTART:20241103T060000
END:STANDARD
BEGIN:DAYLIGHT
TZOFFSETFROM:-0500
TZOFFSETTO:-0400
TZNAME:EDT
DTSTART:20250309T070000
END:DAYLIGHT
BEGIN:STANDARD
TZOFFSETFROM:-0400
TZOFFSETTO:-0500
TZNAME:EST
DTSTART:20251102T060000
END:STANDARD
BEGIN:DAYLIGHT
TZOFFSETFROM:-0500
TZOFFSETTO:-0400
TZNAME:EDT
DTSTART:20260308T070000
END:DAYLIGHT
BEGIN:STANDARD
TZOFFSETFROM:-0400
TZOFFSETTO:-0500
TZNAME:EST
DTSTART:20261101T060000
END:STANDARD
END:VTIMEZONE
BEGIN:VEVENT
DTSTART;TZID=America/New_York:20250906T160000
DTEND;TZID=America/New_York:20250906T200000
DTSTAMP:20260420T183724
CREATED:20250804T185900Z
LAST-MODIFIED:20250805T171626Z
UID:10000123-1757174400-1757188800@samofmaine.org
SUMMARY:2025 Banquet and Auction
DESCRIPTION:FUN & PRIZES including a Live Auction\, Silent Auction\, Recognition & Awards\, Membership Meeting\, Buffet Dinner\, and Raffles \nSPONSORSHIPS \n\nPLATINUM $1\,000\n1/2 Page Ad in the Banquet Program\nListed in the Banquet Announcements Acknowledgement in SAM NEWS\n2 banquet tickets (upon request)\n \nGOLD $750\n1/4 Page Ad in the Banquet Program\nListed in the Banquet Announcement\n2 banquet tickets (upon request)\n \nSILVER $500\nBusiness Card Ad in the Banquet Program\nListed in the Banquet Announcement\n \nBRONZE $250\nListed in the Banquet Announcement\n \nFRIEND OF SAM $100\nListed on the Banquet Announcement
URL:https://samofmaine.org/event/2025-banquet-and-auction/
LOCATION:Waterville Elks Banquet and Conference Center\, 76 Industrial St\, Waterville\, ME\, 04901\, United States
ATTACH;FMTTYPE=image/webp:https://cdn.samofmaine.org/wp-content/uploads/2025/08/05131450/2025-Banquet-Poster-with-registration.webp
END:VEVENT
BEGIN:VEVENT
DTSTART;TZID=America/New_York:20240907T160000
DTEND;TZID=America/New_York:20240907T200000
DTSTAMP:20260420T183724
CREATED:20240722T191123Z
LAST-MODIFIED:20240724T145719Z
UID:10000120-1725724800-1725739200@samofmaine.org
SUMMARY:2024 Banquet and Auction
DESCRIPTION:FUN & PRIZES including a Live Auction\, Silent Auction\, Recognition & Awards\, Membership Meeting\, Buffet Dinner\, and Raffles \nSPONSORSHIPS \n\nPLATINUM $1\,000\n1/2PageAdintheBanquetProgram\nListed in the Banquet Announcements Acknowledgement in SAM NEWS\n2 banquet tickets (upon request)\n \nGOLD $750\n1/4 Page Ad in the Banquet Program\nListed in the Banquet Announcement\n2 banquet tickets (upon request)\n \nSILVER $500\nBusiness Card Ad in the Banquet Program\nListed in the Banquet Announcement\n \nBRONZE $250\nListed in the Banquet Announcement\n \nFRIEND OF SAM $100\nListed on the Banquet Announcement
URL:https://samofmaine.org/event/2024-banquet-and-auction/
LOCATION:Waterville Elks Banquet and Conference Center\, 76 Industrial St\, Waterville\, ME\, 04901\, United States
ATTACH;FMTTYPE=image/webp:https://cdn.samofmaine.org/wp-content/uploads/2024/07/24105924/2024-banquet-flyer-rev2.webp
END:VEVENT
BEGIN:VEVENT
DTSTART;TZID=America/New_York:20230909T160000
DTEND;TZID=America/New_York:20230909T200000
DTSTAMP:20260420T183724
CREATED:20230718T211919Z
LAST-MODIFIED:20240716T171129Z
UID:10000118-1694275200-1694289600@samofmaine.org
SUMMARY:2023 Banquet and Auction
DESCRIPTION:$45 – Individual Tickets\, $80 – Two Tickets\, $300 – Table for 8 \nFUN & PRIZES including a Live Auction\, Silent Auction\, Recognition & Awards\, Membership Meeting\, Buffet Dinner and Raffle \nSPONSORSHIPS \nPLATINUM $1\,0001/2 Page Ad in the Banquet ProgramListed in the Banquet AnnouncementsAcknowledgement in SAM NEWS2 banquet tickets (upon request) \nGOLD $5001/4 Page Ad in the Banquet ProgramListed in the Banquet AnnouncementAcknowledgement in SAM NEWS2 banquet tickets (upon request) \nSILVER $2501/8th Page Ad in the Banquet ProgramListed in the Banquet AnnouncementAcknowledgement in SAM NEWS \nSUPPORTER $100Listed on the Banquet AnnouncementAcknowledgement in SAM NEWS \n  \n  \n  \n  \n 
URL:https://samofmaine.org/event/2023-banquet-and-auction/
LOCATION:Waterville Elks Banquet and Conference Center\, 76 Industrial St\, Waterville\, ME\, 04901\, United States
ATTACH;FMTTYPE=image/jpeg:https://cdn.samofmaine.org/wp-content/uploads/2023/07/18172623/2023-Banquet-Poster.jpg
END:VEVENT
BEGIN:VEVENT
DTSTART;TZID=America/New_York:20220910T160000
DTEND;TZID=America/New_York:20220910T200000
DTSTAMP:20260420T183724
CREATED:20220215T190847Z
LAST-MODIFIED:20230719T023053Z
UID:10000093-1662825600-1662840000@samofmaine.org
SUMMARY:SAM Banquet and Auction
DESCRIPTION:
URL:https://samofmaine.org/event/sam-banquet-and-auction/
LOCATION:Waterville Elks Banquet and Conference Center\, 76 Industrial St\, Waterville\, ME\, 04901\, United States
ATTACH;FMTTYPE=image/jpeg:https://cdn.samofmaine.org/wp-content/uploads/2022/02/15125337/quarter-page-1500x2250-pixels.-SAM-NEWS.-SAM-Banquet-2022-scaled.jpg
END:VEVENT
END:VCALENDAR