BEGIN:VCALENDAR
VERSION:2.0
PRODID:-//Sportsmans Alliance of Maine - ECPv6.15.18//NONSGML v1.0//EN
CALSCALE:GREGORIAN
METHOD:PUBLISH
X-WR-CALNAME:Sportsmans Alliance of Maine
X-ORIGINAL-URL:https://samofmaine.org
X-WR-CALDESC:Events for Sportsmans Alliance of Maine
REFRESH-INTERVAL;VALUE=DURATION:PT1H
X-Robots-Tag:noindex
X-PUBLISHED-TTL:PT1H
BEGIN:VTIMEZONE
TZID:America/New_York
BEGIN:DAYLIGHT
TZOFFSETFROM:-0500
TZOFFSETTO:-0400
TZNAME:EDT
DTSTART:20210314T070000
END:DAYLIGHT
BEGIN:STANDARD
TZOFFSETFROM:-0400
TZOFFSETTO:-0500
TZNAME:EST
DTSTART:20211107T060000
END:STANDARD
BEGIN:DAYLIGHT
TZOFFSETFROM:-0500
TZOFFSETTO:-0400
TZNAME:EDT
DTSTART:20220313T070000
END:DAYLIGHT
BEGIN:STANDARD
TZOFFSETFROM:-0400
TZOFFSETTO:-0500
TZNAME:EST
DTSTART:20221106T060000
END:STANDARD
BEGIN:DAYLIGHT
TZOFFSETFROM:-0500
TZOFFSETTO:-0400
TZNAME:EDT
DTSTART:20230312T070000
END:DAYLIGHT
BEGIN:STANDARD
TZOFFSETFROM:-0400
TZOFFSETTO:-0500
TZNAME:EST
DTSTART:20231105T060000
END:STANDARD
BEGIN:DAYLIGHT
TZOFFSETFROM:-0500
TZOFFSETTO:-0400
TZNAME:EDT
DTSTART:20240310T070000
END:DAYLIGHT
BEGIN:STANDARD
TZOFFSETFROM:-0400
TZOFFSETTO:-0500
TZNAME:EST
DTSTART:20241103T060000
END:STANDARD
END:VTIMEZONE
BEGIN:VEVENT
DTSTART;TZID=America/New_York:20230121T160000
DTEND;TZID=America/New_York:20230121T180000
DTSTAMP:20260421T052958
CREATED:20221114T150342Z
LAST-MODIFIED:20221219T181332Z
UID:10000110-1674316800-1674324000@samofmaine.org
SUMMARY:Family Fun Day and Fundraiser
DESCRIPTION:Come join us for the Sportsman’s Alliance of Maine’s Family Fun Day and Fundraiser on Saturday\, January 21st from 2-6pm.  There will be fishing\, archery\, hiking\, and a wild game dinner. \nOutdoor activities are free and go from 2-4pm on the SAM land (2273 N. Belfast Ave.) \nWild game sinner and fundraiser will go from 4 to 6pm in the banquet room at 205 Church Hill Road.  There will be raffle items as well as a silent auction.  A $20 suggested dinner donation will be appreciated. \nAll proceeds will benefit the Outdoor Education Center.
URL:https://samofmaine.org/event/family-fun-day-and-fundraiser/2023-01-21/2/
LOCATION:Sportsman’s Alliace of Maine\, 205 Church Hill Road\, Augusta\, ME\, 04334\, United States
ATTACH;FMTTYPE=image/jpeg:https://cdn.samofmaine.org/wp-content/uploads/2022/11/19131141/OEC-Event-Poster-01212023.jpg
END:VEVENT
BEGIN:VEVENT
DTSTART;TZID=America/New_York:20230121T140000
DTEND;TZID=America/New_York:20230121T160000
DTSTAMP:20260421T052958
CREATED:20221114T150342Z
LAST-MODIFIED:20221219T181332Z
UID:10000109-1674309600-1674316800@samofmaine.org
SUMMARY:Family Fun Day and Fundraiser
DESCRIPTION:Come join us for the Sportsman’s Alliance of Maine’s Family Fun Day and Fundraiser on Saturday\, January 21st from 2-6pm.  There will be fishing\, archery\, hiking\, and a wild game dinner. \nOutdoor activities are free and go from 2-4pm on the SAM land (2273 N. Belfast Ave.) \nWild game sinner and fundraiser will go from 4 to 6pm in the banquet room at 205 Church Hill Road.  There will be raffle items as well as a silent auction.  A $20 suggested dinner donation will be appreciated. \nAll proceeds will benefit the Outdoor Education Center.
URL:https://samofmaine.org/event/family-fun-day-and-fundraiser/2023-01-21/1/
LOCATION:Sportsman’s Alliace of Maine\, 205 Church Hill Road\, Augusta\, ME\, 04334\, United States
ATTACH;FMTTYPE=image/jpeg:https://cdn.samofmaine.org/wp-content/uploads/2022/11/19131141/OEC-Event-Poster-01212023.jpg
END:VEVENT
BEGIN:VEVENT
DTSTART;TZID=America/New_York:20221208T083000
DTEND;TZID=America/New_York:20221208T150000
DTSTAMP:20260421T052958
CREATED:20221128T191334Z
LAST-MODIFIED:20221128T194947Z
UID:10000111-1670488200-1670511600@samofmaine.org
SUMMARY:SAM-ILA Congress
DESCRIPTION:Thursday\, December 8th from 830 to 3.\nTo register: Call (207) 623-4589 or email becky@samofmaine.org \nNo cost to attend\, donations for lunch are welcomed. \n8:30-9:00 – Meet and Greet – coffee and donuts \n9:00 – 10:45 – Wildlife Habitat and Lands Program \n10:45 – 12:00 – Hatchery Update \n12:00 – 1:00 – Lunch (Provided by SAM-ILA) \n1:00 – 2:15 – Maine’s New Antlerless Deer Permit System & Wolf Introduction Discussion \n2:15 – 3:00 – Upcoming Legislation\, Firearms Issues and Other
URL:https://samofmaine.org/event/sam-ila-congress-2/
LOCATION:Sportsman’s Alliace of Maine\, 205 Church Hill Road\, Augusta\, ME\, 04334\, United States
ATTACH;FMTTYPE=image/jpeg:https://cdn.samofmaine.org/wp-content/uploads/2022/11/28111714/SAM-ILA-Congress-12082022-Poster-1.jpg
END:VEVENT
BEGIN:VEVENT
DTSTART;TZID=America/New_York:20220423T090000
DTEND;TZID=America/New_York:20220423T150000
DTSTAMP:20260421T052958
CREATED:20220413T215150Z
LAST-MODIFIED:20220413T224546Z
UID:10000100-1650704400-1650726000@samofmaine.org
SUMMARY:Sportsman's Alliance of Maine Sporting Goods Yard Sale
DESCRIPTION:We will have knives\, fishing poles and fly rods\, fishing tackle\, hunting gear\, boating accessories\, storage containers\, shooting range supplies\, cases\, pouches and backpacks\, books and clothing and so much more! \nOne day only – don’t miss it! \nInside the SAM conference room.
URL:https://samofmaine.org/event/sportsmans-alliance-of-maine-sporting-goods-yard-sale/
LOCATION:Sportsman’s Alliace of Maine\, 205 Church Hill Road\, Augusta\, ME\, 04334\, United States
ATTACH;FMTTYPE=image/jpeg:https://cdn.samofmaine.org/wp-content/uploads/2022/04/18235645/277773312_5027922330625970_6378335824429020248_n.jpg
END:VEVENT
END:VCALENDAR