BEGIN:VCALENDAR
VERSION:2.0
PRODID:-//Sportsmans Alliance of Maine - ECPv6.15.18//NONSGML v1.0//EN
CALSCALE:GREGORIAN
METHOD:PUBLISH
X-WR-CALNAME:Sportsmans Alliance of Maine
X-ORIGINAL-URL:https://samofmaine.org
X-WR-CALDESC:Events for Sportsmans Alliance of Maine
REFRESH-INTERVAL;VALUE=DURATION:PT1H
X-Robots-Tag:noindex
X-PUBLISHED-TTL:PT1H
BEGIN:VTIMEZONE
TZID:America/New_York
BEGIN:DAYLIGHT
TZOFFSETFROM:-0500
TZOFFSETTO:-0400
TZNAME:EDT
DTSTART:20210314T070000
END:DAYLIGHT
BEGIN:STANDARD
TZOFFSETFROM:-0400
TZOFFSETTO:-0500
TZNAME:EST
DTSTART:20211107T060000
END:STANDARD
BEGIN:DAYLIGHT
TZOFFSETFROM:-0500
TZOFFSETTO:-0400
TZNAME:EDT
DTSTART:20220313T070000
END:DAYLIGHT
BEGIN:STANDARD
TZOFFSETFROM:-0400
TZOFFSETTO:-0500
TZNAME:EST
DTSTART:20221106T060000
END:STANDARD
BEGIN:DAYLIGHT
TZOFFSETFROM:-0500
TZOFFSETTO:-0400
TZNAME:EDT
DTSTART:20230312T070000
END:DAYLIGHT
BEGIN:STANDARD
TZOFFSETFROM:-0400
TZOFFSETTO:-0500
TZNAME:EST
DTSTART:20231105T060000
END:STANDARD
END:VTIMEZONE
BEGIN:VEVENT
DTSTART;TZID=America/New_York:20220409T170000
DTEND;TZID=America/New_York:20220409T183000
DTSTAMP:20260422T133754
CREATED:20220215T163237Z
LAST-MODIFIED:20220215T163241Z
UID:10000086-1649523600-1649529000@samofmaine.org
SUMMARY:Operation Game Thief Fundraiser
DESCRIPTION:Date: Saturday April 9\, 2022\n\nLocation: Ramada Hotel & Conference Center 490 Pleasant Street\, Lewiston ME\n\nTime: Doors open at 5:00 PM\, dinner 6:30 PM\n\nTicket $50 per person\, $75 per couple
URL:https://samofmaine.org/event/operation-game-thief-fundraiser/
LOCATION:Ramada Hotel & Confrence Center\, 490 Pleasant Street\, Lewiston\, ME\, United States
ATTACH;FMTTYPE=image/jpeg:https://cdn.samofmaine.org/wp-content/uploads/2022/02/18235805/operation_game_logo_green.jpg
END:VEVENT
END:VCALENDAR