BEGIN:VCALENDAR
VERSION:2.0
PRODID:-//Sportsmans Alliance of Maine - ECPv6.15.18//NONSGML v1.0//EN
CALSCALE:GREGORIAN
METHOD:PUBLISH
X-WR-CALNAME:Sportsmans Alliance of Maine
X-ORIGINAL-URL:https://samofmaine.org
X-WR-CALDESC:Events for Sportsmans Alliance of Maine
REFRESH-INTERVAL;VALUE=DURATION:PT1H
X-Robots-Tag:noindex
X-PUBLISHED-TTL:PT1H
BEGIN:VTIMEZONE
TZID:America/New_York
BEGIN:DAYLIGHT
TZOFFSETFROM:-0500
TZOFFSETTO:-0400
TZNAME:EDT
DTSTART:20210314T070000
END:DAYLIGHT
BEGIN:STANDARD
TZOFFSETFROM:-0400
TZOFFSETTO:-0500
TZNAME:EST
DTSTART:20211107T060000
END:STANDARD
BEGIN:DAYLIGHT
TZOFFSETFROM:-0500
TZOFFSETTO:-0400
TZNAME:EDT
DTSTART:20220313T070000
END:DAYLIGHT
BEGIN:STANDARD
TZOFFSETFROM:-0400
TZOFFSETTO:-0500
TZNAME:EST
DTSTART:20221106T060000
END:STANDARD
BEGIN:DAYLIGHT
TZOFFSETFROM:-0500
TZOFFSETTO:-0400
TZNAME:EDT
DTSTART:20230312T070000
END:DAYLIGHT
BEGIN:STANDARD
TZOFFSETFROM:-0400
TZOFFSETTO:-0500
TZNAME:EST
DTSTART:20231105T060000
END:STANDARD
END:VTIMEZONE
BEGIN:VEVENT
DTSTART;TZID=America/New_York:20221216T183000
DTEND;TZID=America/New_York:20221216T200000
DTSTAMP:20260421T105749
CREATED:20221205T152126Z
LAST-MODIFIED:20221205T152126Z
UID:10000115-1671215400-1671220800@samofmaine.org
SUMMARY:Help Our Whitetail Meeting
DESCRIPTION:Aroostook County Conservation Assoc. is hosting a Help Our Whitetail Meeting on December 16\, 2022\, at 630pm. \nLocated at the NorthEastland Hotel\, 436 Main Street\, Presque Isle\, ME \nThe guest speaker will be Executive Director of SAM\, David Trahan speaking about Deer Yard Area Purchasing. \nAgenda Topics:\nDeer Yards\nDrawing of a Savage Axis II XP Hardwood 6.5 Creedmoor with 3-9X40 Scope. \nEveryone is welcome!
URL:https://samofmaine.org/event/help-our-whitetail-meeting/
LOCATION:NorthEastland Hotel\, 436 Main Street\, Presque Isle\, ME\, United States
END:VEVENT
END:VCALENDAR