BEGIN:VCALENDAR
VERSION:2.0
PRODID:-//Sportsmans Alliance of Maine - ECPv6.15.18//NONSGML v1.0//EN
CALSCALE:GREGORIAN
METHOD:PUBLISH
X-ORIGINAL-URL:https://samofmaine.org
X-WR-CALDESC:Events for Sportsmans Alliance of Maine
REFRESH-INTERVAL;VALUE=DURATION:PT1H
X-Robots-Tag:noindex
X-PUBLISHED-TTL:PT1H
BEGIN:VTIMEZONE
TZID:America/New_York
BEGIN:DAYLIGHT
TZOFFSETFROM:-0500
TZOFFSETTO:-0400
TZNAME:EDT
DTSTART:20210314T070000
END:DAYLIGHT
BEGIN:STANDARD
TZOFFSETFROM:-0400
TZOFFSETTO:-0500
TZNAME:EST
DTSTART:20211107T060000
END:STANDARD
BEGIN:DAYLIGHT
TZOFFSETFROM:-0500
TZOFFSETTO:-0400
TZNAME:EDT
DTSTART:20220313T070000
END:DAYLIGHT
BEGIN:STANDARD
TZOFFSETFROM:-0400
TZOFFSETTO:-0500
TZNAME:EST
DTSTART:20221106T060000
END:STANDARD
BEGIN:DAYLIGHT
TZOFFSETFROM:-0500
TZOFFSETTO:-0400
TZNAME:EDT
DTSTART:20230312T070000
END:DAYLIGHT
BEGIN:STANDARD
TZOFFSETFROM:-0400
TZOFFSETTO:-0500
TZNAME:EST
DTSTART:20231105T060000
END:STANDARD
END:VTIMEZONE
BEGIN:VEVENT
DTSTART;TZID=America/New_York:20220910T080000
DTEND;TZID=America/New_York:20220910T170000
DTSTAMP:20260421T210251
CREATED:20220215T191413Z
LAST-MODIFIED:20220215T191416Z
UID:10000095-1662796800-1662829200@samofmaine.org
SUMMARY:Caribou Gun Show
DESCRIPTION:The annual Presque Isle Fish and Game Club gun show and firearm display is a great chance to see what dealers have to offer and to see some antique and unique firearms.  It is held ad the Northeastland Hotel in Presque Isle\, ME   \n\nDATES\nSaturday Sept. 10 8am-5pm\nSunday Sept. 11 9am-2pm\n\nADMISSION: $7\nKIDS UNDER 12 ARE FREE! \n\nFOR MORE INFORMATION REACH OUT TO \nMichael A. Jones 207-551-9213 Mjones52@maine.rr.com  \nDick Fortier 207–496-1221  E-mail; bearfortier@gmail.com
URL:https://samofmaine.org/event/caribou-gun-show/
LOCATION:CARBOU INN AND CONVENTION CENTER\, 19 Main St.\, Caribou\, ME\, 04736\, United States
ATTACH;FMTTYPE=image/gif:https://cdn.samofmaine.org/wp-content/uploads/2022/02/18235804/PIFG.gif
END:VEVENT
END:VCALENDAR