BEGIN:VCALENDAR
VERSION:2.0
PRODID:-//Sportsmans Alliance of Maine - ECPv6.15.18//NONSGML v1.0//EN
CALSCALE:GREGORIAN
METHOD:PUBLISH
X-WR-CALNAME:Sportsmans Alliance of Maine
X-ORIGINAL-URL:https://samofmaine.org
X-WR-CALDESC:Events for Sportsmans Alliance of Maine
REFRESH-INTERVAL;VALUE=DURATION:PT1H
X-Robots-Tag:noindex
X-PUBLISHED-TTL:PT1H
BEGIN:VTIMEZONE
TZID:America/New_York
BEGIN:DAYLIGHT
TZOFFSETFROM:-0500
TZOFFSETTO:-0400
TZNAME:EDT
DTSTART:20210314T070000
END:DAYLIGHT
BEGIN:STANDARD
TZOFFSETFROM:-0400
TZOFFSETTO:-0500
TZNAME:EST
DTSTART:20211107T060000
END:STANDARD
BEGIN:DAYLIGHT
TZOFFSETFROM:-0500
TZOFFSETTO:-0400
TZNAME:EDT
DTSTART:20220313T070000
END:DAYLIGHT
BEGIN:STANDARD
TZOFFSETFROM:-0400
TZOFFSETTO:-0500
TZNAME:EST
DTSTART:20221106T060000
END:STANDARD
BEGIN:DAYLIGHT
TZOFFSETFROM:-0500
TZOFFSETTO:-0400
TZNAME:EDT
DTSTART:20230312T070000
END:DAYLIGHT
BEGIN:STANDARD
TZOFFSETFROM:-0400
TZOFFSETTO:-0500
TZNAME:EST
DTSTART:20231105T060000
END:STANDARD
END:VTIMEZONE
BEGIN:VEVENT
DTSTART;TZID=America/New_York:20220625T080000
DTEND;TZID=America/New_York:20220625T170000
DTSTAMP:20260422T025526
CREATED:20220426T132348Z
LAST-MODIFIED:20220426T132348Z
UID:10000101-1656144000-1656176400@samofmaine.org
SUMMARY:Free Youth Fishing Derby
DESCRIPTION:Saturday\, JUNE 25\, 2022\n15 and Under\nAll legal waters in Maine\, all fishing laws and regulations apply. Weigh-in 12:00 -4:00 p.m.  at the Wiscasset Rod and Gun Club\, Rt 27\, Wiscasset\, Maine\n3 prizes for each category:\nLarge mouth bass\, small mouth bass\, pickerel\, white perch\, yellow perch and crappie
URL:https://samofmaine.org/event/free-youth-fishing-derby/
LOCATION:Wiscasset Rod and Gun Club\, 794 Gardiner Ave.\, Wiscasset\, ME\, 04578\, United States
ATTACH;FMTTYPE=image/png:https://cdn.samofmaine.org/wp-content/uploads/2022/04/18235630/fishing-derby.png
END:VEVENT
END:VCALENDAR