BEGIN:VCALENDAR
VERSION:2.0
PRODID:-//Sportsmans Alliance of Maine - ECPv6.15.18//NONSGML v1.0//EN
CALSCALE:GREGORIAN
METHOD:PUBLISH
X-ORIGINAL-URL:https://samofmaine.org
X-WR-CALDESC:Events for Sportsmans Alliance of Maine
REFRESH-INTERVAL;VALUE=DURATION:PT1H
X-Robots-Tag:noindex
X-PUBLISHED-TTL:PT1H
BEGIN:VTIMEZONE
TZID:America/New_York
BEGIN:DAYLIGHT
TZOFFSETFROM:-0500
TZOFFSETTO:-0400
TZNAME:EDT
DTSTART:20210314T070000
END:DAYLIGHT
BEGIN:STANDARD
TZOFFSETFROM:-0400
TZOFFSETTO:-0500
TZNAME:EST
DTSTART:20211107T060000
END:STANDARD
BEGIN:DAYLIGHT
TZOFFSETFROM:-0500
TZOFFSETTO:-0400
TZNAME:EDT
DTSTART:20220313T070000
END:DAYLIGHT
BEGIN:STANDARD
TZOFFSETFROM:-0400
TZOFFSETTO:-0500
TZNAME:EST
DTSTART:20221106T060000
END:STANDARD
BEGIN:DAYLIGHT
TZOFFSETFROM:-0500
TZOFFSETTO:-0400
TZNAME:EDT
DTSTART:20230312T070000
END:DAYLIGHT
BEGIN:STANDARD
TZOFFSETFROM:-0400
TZOFFSETTO:-0500
TZNAME:EST
DTSTART:20231105T060000
END:STANDARD
END:VTIMEZONE
BEGIN:VEVENT
DTSTART;TZID=America/New_York:20220226T080000
DTEND;TZID=America/New_York:20220226T170000
DTSTAMP:20260422T231826
CREATED:20220215T150402Z
LAST-MODIFIED:20220215T151117Z
UID:10000081-1645862400-1645894800@samofmaine.org
SUMMARY:Ancient Ones 24th Annual Gun Show
DESCRIPTION:FEBRUARY 26 @ 9:00 AM – 5:00 PM\nFEBRUARY 27 @ 9:00 AM – 3:00 PM\n$7.00\nThe Ancient Ones Gun Show will be held on Feb 26th-27th\, 2022 in Augusta\, ME. This Augusta gun show is held at Augusta Armory and hosted by Ancient Ones of Maine. All federal\, state and local firearm ordinances and laws must be obeyed.
URL:https://samofmaine.org/event/ancient-ones-24th-annual-gun-show/
LOCATION:Augusta Armory\, 179 Western Avenue\, Augusta\, ME\, United States
ORGANIZER;CN="The Ancient Ones":MAILTO:smokefromthewoods@hotmail.com
END:VEVENT
END:VCALENDAR