BEGIN:VCALENDAR
VERSION:2.0
PRODID:-//Sportsmans Alliance of Maine - ECPv6.15.18//NONSGML v1.0//EN
CALSCALE:GREGORIAN
METHOD:PUBLISH
X-ORIGINAL-URL:https://samofmaine.org
X-WR-CALDESC:Events for Sportsmans Alliance of Maine
REFRESH-INTERVAL;VALUE=DURATION:PT1H
X-Robots-Tag:noindex
X-PUBLISHED-TTL:PT1H
BEGIN:VTIMEZONE
TZID:America/New_York
BEGIN:DAYLIGHT
TZOFFSETFROM:-0500
TZOFFSETTO:-0400
TZNAME:EDT
DTSTART:20210314T070000
END:DAYLIGHT
BEGIN:STANDARD
TZOFFSETFROM:-0400
TZOFFSETTO:-0500
TZNAME:EST
DTSTART:20211107T060000
END:STANDARD
BEGIN:DAYLIGHT
TZOFFSETFROM:-0500
TZOFFSETTO:-0400
TZNAME:EDT
DTSTART:20220313T070000
END:DAYLIGHT
BEGIN:STANDARD
TZOFFSETFROM:-0400
TZOFFSETTO:-0500
TZNAME:EST
DTSTART:20221106T060000
END:STANDARD
BEGIN:DAYLIGHT
TZOFFSETFROM:-0500
TZOFFSETTO:-0400
TZNAME:EDT
DTSTART:20230312T070000
END:DAYLIGHT
BEGIN:STANDARD
TZOFFSETFROM:-0400
TZOFFSETTO:-0500
TZNAME:EST
DTSTART:20231105T060000
END:STANDARD
END:VTIMEZONE
BEGIN:VEVENT
DTSTART;TZID=America/New_York:20220208T080000
DTEND;TZID=America/New_York:20220208T170000
DTSTAMP:20260423T052059
CREATED:20220208T140236Z
LAST-MODIFIED:20220208T140238Z
UID:10000078-1644307200-1644339600@samofmaine.org
SUMMARY:Annual Horne Pond Derby
DESCRIPTION:Standish Fish and Game Club at the 4-H Camp at Bryant Pond.
URL:https://samofmaine.org/event/annual-horne-pond/
LOCATION:Camp Moy Mo Da Yo\, North Road\, Pequawket Lake\, Limington Maine\, ME\, United States
ATTACH;FMTTYPE=image/jpeg:https://cdn.samofmaine.org/wp-content/uploads/2022/02/18235812/Horne-Pond.jpeg
END:VEVENT
END:VCALENDAR