BEGIN:VCALENDAR
VERSION:2.0
PRODID:-//Sportsmans Alliance of Maine - ECPv6.15.18//NONSGML v1.0//EN
CALSCALE:GREGORIAN
METHOD:PUBLISH
X-ORIGINAL-URL:https://samofmaine.org
X-WR-CALDESC:Events for Sportsmans Alliance of Maine
REFRESH-INTERVAL;VALUE=DURATION:PT1H
X-Robots-Tag:noindex
X-PUBLISHED-TTL:PT1H
BEGIN:VTIMEZONE
TZID:America/New_York
BEGIN:DAYLIGHT
TZOFFSETFROM:-0500
TZOFFSETTO:-0400
TZNAME:EDT
DTSTART:20220313T070000
END:DAYLIGHT
BEGIN:STANDARD
TZOFFSETFROM:-0400
TZOFFSETTO:-0500
TZNAME:EST
DTSTART:20221106T060000
END:STANDARD
BEGIN:DAYLIGHT
TZOFFSETFROM:-0500
TZOFFSETTO:-0400
TZNAME:EDT
DTSTART:20230312T070000
END:DAYLIGHT
BEGIN:STANDARD
TZOFFSETFROM:-0400
TZOFFSETTO:-0500
TZNAME:EST
DTSTART:20231105T060000
END:STANDARD
BEGIN:DAYLIGHT
TZOFFSETFROM:-0500
TZOFFSETTO:-0400
TZNAME:EDT
DTSTART:20240310T070000
END:DAYLIGHT
BEGIN:STANDARD
TZOFFSETFROM:-0400
TZOFFSETTO:-0500
TZNAME:EST
DTSTART:20241103T060000
END:STANDARD
END:VTIMEZONE
BEGIN:VEVENT
DTSTART;TZID=America/New_York:20230211T070000
DTEND;TZID=America/New_York:20230211T140000
DTSTAMP:20260421T035154
CREATED:20221205T145437Z
LAST-MODIFIED:20221205T145437Z
UID:10000112-1676098800-1676124000@samofmaine.org
SUMMARY:Ice Fishing Derby
DESCRIPTION:The Royal River Rod and Gun Club will be hosting an Ice Fishing Derby on February 11th at Range Pond State Park. \nThere will be an Adult and an U16 division for the derby with prizes for the winning fish along with door prizes as well as a free ice fishing trap giveaway for kids.
URL:https://samofmaine.org/event/ice-fishing-derby-2/
LOCATION:Range Pond State Park\, ME\, United States
ATTACH;FMTTYPE=image/png:https://cdn.samofmaine.org/wp-content/uploads/2022/12/05095429/screen-shot-2021-12-15-at-4-55-35-pm.png
END:VEVENT
END:VCALENDAR