BEGIN:VCALENDAR
VERSION:2.0
PRODID:-//Sportsmans Alliance of Maine - ECPv6.15.18//NONSGML v1.0//EN
CALSCALE:GREGORIAN
METHOD:PUBLISH
X-ORIGINAL-URL:https://samofmaine.org
X-WR-CALDESC:Events for Sportsmans Alliance of Maine
REFRESH-INTERVAL;VALUE=DURATION:PT1H
X-Robots-Tag:noindex
X-PUBLISHED-TTL:PT1H
BEGIN:VTIMEZONE
TZID:America/New_York
BEGIN:DAYLIGHT
TZOFFSETFROM:-0500
TZOFFSETTO:-0400
TZNAME:EDT
DTSTART:20210314T070000
END:DAYLIGHT
BEGIN:STANDARD
TZOFFSETFROM:-0400
TZOFFSETTO:-0500
TZNAME:EST
DTSTART:20211107T060000
END:STANDARD
BEGIN:DAYLIGHT
TZOFFSETFROM:-0500
TZOFFSETTO:-0400
TZNAME:EDT
DTSTART:20220313T070000
END:DAYLIGHT
BEGIN:STANDARD
TZOFFSETFROM:-0400
TZOFFSETTO:-0500
TZNAME:EST
DTSTART:20221106T060000
END:STANDARD
BEGIN:DAYLIGHT
TZOFFSETFROM:-0500
TZOFFSETTO:-0400
TZNAME:EDT
DTSTART:20230312T070000
END:DAYLIGHT
BEGIN:STANDARD
TZOFFSETFROM:-0400
TZOFFSETTO:-0500
TZNAME:EST
DTSTART:20231105T060000
END:STANDARD
END:VTIMEZONE
BEGIN:VEVENT
DTSTART;TZID=America/New_York:20221217T090000
DTEND;TZID=America/New_York:20221217T170000
DTSTAMP:20260421T092943
CREATED:20221205T151407Z
LAST-MODIFIED:20221205T151407Z
UID:10000114-1671267600-1671296400@samofmaine.org
SUMMARY:Augusta Elks #964 Gun Show
DESCRIPTION:December 18 & 19\, 2022\n9 am to 5 pm Saturday\n9 am to 3 pm Sunday\nOPEN TO THE PUBLIC \nAdmission is $6\nKitchen will be open 9-2 both days \n 
URL:https://samofmaine.org/event/augusta-elks-964-gun-show/2022-12-17/2/
LOCATION:Augusta Armory\, 179 Western Avenue\, Augusta\, ME\, United States
ATTACH;FMTTYPE=image/jpeg:https://cdn.samofmaine.org/wp-content/uploads/2022/12/05101348/317672099_656492386201077_2452463814373714213_n.jpg
ORGANIZER;CN="Augusta Elks #964":MAILTO:myguns@roadrunner.com
END:VEVENT
BEGIN:VEVENT
DTSTART;TZID=America/New_York:20221217T080000
DTEND;TZID=America/New_York:20221218T150000
DTSTAMP:20260421T092943
CREATED:20221205T151407Z
LAST-MODIFIED:20221205T151407Z
UID:10000113-1671264000-1671375600@samofmaine.org
SUMMARY:Augusta Elks #964 Gun Show
DESCRIPTION:December 18 & 19\, 2022\n9 am to 5 pm Saturday\n9 am to 3 pm Sunday\nOPEN TO THE PUBLIC \nAdmission is $6\nKitchen will be open 9-2 both days \n 
URL:https://samofmaine.org/event/augusta-elks-964-gun-show/2022-12-17/1/
LOCATION:Augusta Armory\, 179 Western Avenue\, Augusta\, ME\, United States
ATTACH;FMTTYPE=image/jpeg:https://cdn.samofmaine.org/wp-content/uploads/2022/12/05101348/317672099_656492386201077_2452463814373714213_n.jpg
ORGANIZER;CN="Augusta Elks #964":MAILTO:myguns@roadrunner.com
END:VEVENT
END:VCALENDAR