BEGIN:VCALENDAR
VERSION:2.0
PRODID:-//Sportsmans Alliance of Maine - ECPv6.15.18//NONSGML v1.0//EN
CALSCALE:GREGORIAN
METHOD:PUBLISH
X-ORIGINAL-URL:https://samofmaine.org
X-WR-CALDESC:Events for Sportsmans Alliance of Maine
REFRESH-INTERVAL;VALUE=DURATION:PT1H
X-Robots-Tag:noindex
X-PUBLISHED-TTL:PT1H
BEGIN:VTIMEZONE
TZID:America/New_York
BEGIN:DAYLIGHT
TZOFFSETFROM:-0500
TZOFFSETTO:-0400
TZNAME:EDT
DTSTART:20200308T070000
END:DAYLIGHT
BEGIN:STANDARD
TZOFFSETFROM:-0400
TZOFFSETTO:-0500
TZNAME:EST
DTSTART:20201101T060000
END:STANDARD
BEGIN:DAYLIGHT
TZOFFSETFROM:-0500
TZOFFSETTO:-0400
TZNAME:EDT
DTSTART:20210314T070000
END:DAYLIGHT
BEGIN:STANDARD
TZOFFSETFROM:-0400
TZOFFSETTO:-0500
TZNAME:EST
DTSTART:20211107T060000
END:STANDARD
BEGIN:DAYLIGHT
TZOFFSETFROM:-0500
TZOFFSETTO:-0400
TZNAME:EDT
DTSTART:20220313T070000
END:DAYLIGHT
BEGIN:STANDARD
TZOFFSETFROM:-0400
TZOFFSETTO:-0500
TZNAME:EST
DTSTART:20221106T060000
END:STANDARD
END:VTIMEZONE
BEGIN:VEVENT
DTSTART;VALUE=DATE:20210911
DTEND;VALUE=DATE:20210912
DTSTAMP:20260421T170223
CREATED:20210824T033828Z
LAST-MODIFIED:20211119T024535Z
UID:10000067-1631318400-1631404799@samofmaine.org
SUMMARY:Aroostook Friends of N\, 9th annual fundraiser
DESCRIPTION:Aroostook Friends of N.\, 9th annual fundraiser at the Forum in Presque Isle\, 84 Mechanic St. Doors open at 4
URL:https://samofmaine.org/event/aroostook-friends-of-n-9th-annual-fundraiser/
CATEGORIES:Uncategorized
END:VEVENT
BEGIN:VEVENT
DTSTART;VALUE=DATE:20210911
DTEND;VALUE=DATE:20210912
DTSTAMP:20260421T170223
CREATED:20210824T033654Z
LAST-MODIFIED:20230719T023130Z
UID:10000066-1631318400-1631404799@samofmaine.org
SUMMARY:SAM Annual Banquet
DESCRIPTION:SPORTSMAN’S ALLIANCE OF MAINE\npresents \nSAM'(12th Annual Save our Heritage Banquet and Auction\nMark your calendar!\nSeptember 11\, 2021\nHead on over to the store tab to reserve your\ntickets now or to become a supporter! More\ninformation to follow!
URL:https://samofmaine.org/event/sam-annual-banquet/
CATEGORIES:Uncategorized
ATTACH;FMTTYPE=image/jpeg:https://cdn.samofmaine.org/wp-content/uploads/2021/08/19000219/mark-your-calendar_orig.jpeg
END:VEVENT
BEGIN:VEVENT
DTSTART;VALUE=DATE:20210711
DTEND;VALUE=DATE:20210712
DTSTAMP:20260421T170223
CREATED:20210708T014114Z
LAST-MODIFIED:20211119T024535Z
UID:10000062-1625961600-1626047999@samofmaine.org
SUMMARY:3rd Annual Schoodic Lake Charity Bass Tournament
DESCRIPTION:
URL:https://samofmaine.org/event/3rd-annual-schoodic-lake-charity-bass-tournament/
CATEGORIES:Uncategorized
END:VEVENT
BEGIN:VEVENT
DTSTART;VALUE=DATE:20210710
DTEND;VALUE=DATE:20210711
DTSTAMP:20260421T170223
CREATED:20210708T014030Z
LAST-MODIFIED:20211119T024535Z
UID:10000061-1625875200-1625961599@samofmaine.org
SUMMARY:Maine Fly Fishing Summer Showcase
DESCRIPTION:
URL:https://samofmaine.org/event/maine-fly-fishing-summer-showcase/
CATEGORIES:Uncategorized
END:VEVENT
BEGIN:VEVENT
DTSTART;VALUE=DATE:20210626
DTEND;VALUE=DATE:20210628
DTSTAMP:20260421T170223
CREATED:20210708T013917Z
LAST-MODIFIED:20211119T024535Z
UID:10000060-1624665600-1624838399@samofmaine.org
SUMMARY:Freedom Promotions Gun Show
DESCRIPTION:
URL:https://samofmaine.org/event/freedom-promotions-gun-show/
LOCATION:American Legion – Topsham\, 79 Foreside Road\, Topsham\, ME\, United States
CATEGORIES:Uncategorized
END:VEVENT
BEGIN:VEVENT
DTSTART;VALUE=DATE:20210619
DTEND;VALUE=DATE:20210621
DTSTAMP:20260421T170223
CREATED:20210708T053240Z
LAST-MODIFIED:20211119T024535Z
UID:10000063-1624060800-1624233599@samofmaine.org
SUMMARY:Landlocked Salmon Derby
DESCRIPTION:This is an event
URL:https://samofmaine.org/event/landlocked-salmon-derby/
LOCATION:Mooselookmeguntic Lake
CATEGORIES:Uncategorized
END:VEVENT
BEGIN:VEVENT
DTSTART;VALUE=DATE:20210501
DTEND;VALUE=DATE:20210601
DTSTAMP:20260421T170223
CREATED:20210824T033533Z
LAST-MODIFIED:20211119T024535Z
UID:10000064-1619827200-1622505599@samofmaine.org
SUMMARY:SAM's Online Auction
DESCRIPTION:
URL:https://samofmaine.org/event/sams-online-auction/
CATEGORIES:Uncategorized
ATTACH;FMTTYPE=image/jpeg:https://cdn.samofmaine.org/wp-content/uploads/2021/08/19000409/111.jpg
END:VEVENT
END:VCALENDAR